BEGIN:VCALENDAR
VERSION:2.0
PRODID:-//erliebensWERT - ECPv6.15.20//NONSGML v1.0//EN
CALSCALE:GREGORIAN
METHOD:PUBLISH
X-ORIGINAL-URL:https://erliebenswert.de
X-WR-CALDESC:Veranstaltungen für erliebensWERT
REFRESH-INTERVAL;VALUE=DURATION:PT1H
X-Robots-Tag:noindex
X-PUBLISHED-TTL:PT1H
BEGIN:VTIMEZONE
TZID:Europe/Berlin
BEGIN:DAYLIGHT
TZOFFSETFROM:+0100
TZOFFSETTO:+0200
TZNAME:CEST
DTSTART:20260329T010000
END:DAYLIGHT
BEGIN:STANDARD
TZOFFSETFROM:+0200
TZOFFSETTO:+0100
TZNAME:CET
DTSTART:20261025T010000
END:STANDARD
BEGIN:DAYLIGHT
TZOFFSETFROM:+0100
TZOFFSETTO:+0200
TZNAME:CEST
DTSTART:20270328T010000
END:DAYLIGHT
BEGIN:STANDARD
TZOFFSETFROM:+0200
TZOFFSETTO:+0100
TZNAME:CET
DTSTART:20271031T010000
END:STANDARD
BEGIN:DAYLIGHT
TZOFFSETFROM:+0100
TZOFFSETTO:+0200
TZNAME:CEST
DTSTART:20280326T010000
END:DAYLIGHT
BEGIN:STANDARD
TZOFFSETFROM:+0200
TZOFFSETTO:+0100
TZNAME:CET
DTSTART:20281029T010000
END:STANDARD
BEGIN:DAYLIGHT
TZOFFSETFROM:+0100
TZOFFSETTO:+0200
TZNAME:CEST
DTSTART:20290325T010000
END:DAYLIGHT
BEGIN:STANDARD
TZOFFSETFROM:+0200
TZOFFSETTO:+0100
TZNAME:CET
DTSTART:20291028T010000
END:STANDARD
END:VTIMEZONE
BEGIN:VEVENT
DTSTART;TZID=Europe/Berlin:20271130T110000
DTEND;TZID=Europe/Berlin:20271202T170000
DTSTAMP:20260420T174320
CREATED:20260301T182218Z
LAST-MODIFIED:20260301T182218Z
UID:6356-1827572400-1827766800@erliebenswert.de
SUMMARY:3 Tage Erlebnisauszeit: ResonanzYin
DESCRIPTION:3 Tage Erlebnisauszeit: ResonanzYin™\nZur Regulation von Nervensystem\, Faszien und Bewusstseinsfeld\n  \nResonanzYin™ verbindet klassische Yin-Prinzipien mit Atemführung\, Klangimpulsen und der Resonanzarchitektur der ORTHOmantie®. In langen\, achtsam gehaltenen Positionen wird das Fasziengewebe sanft stimuliert. Der Atem wird zum regulativen Anker\, Klang vertieft die Wahrnehmung und unterstützt die autonome Balance. Es entsteht ein Integrationsraum\, in dem Spannungen sich nicht durch Druck lösen\, sondern durch Erlaubnis. Dein Nervensystem lernt Sicherheit – Dein Körper antwortet. \nDiese Auszeit richtet sich an Menschen\, die Regeneration suchen\, Yogapraktizierende\, Coaches und Fachkräfte\, alle\, die ihr Nervensystem nachhaltig stärken möchten. Es ist ein regulativer Erfahrungsraum. Kein Fitnesskurs. Keine therapeutische Behandlung. Kein Leistungs- oder Korrekturtraining. \nDie Vorteile Deiner Selbsterfahrung \n• Vertiefte Körperwahrnehmung und Faszienregulation\n• Spürbare Entlastung von Stressmustern\n• Stabilisierung Deiner verkörperten Selbstführung \n  \nIn der Stille des Gewebes beginnt die Antwort des Herzens.\n„Wenn der Körper weich wird\, wird die Seele hörbar. – Ich freue mich auf Dich.“ \nDeine Marina Orth \nP.S.: Auf Wunsch gibt es nach der Teilnahme dieser 3 erLebnistage ein ResonanzKompass™ Practitioner-Zertifikat.
URL:https://erliebenswert.de/event/3-tage-erlebnisauszeit-resonanzyin-2/
LOCATION:Energie & Balance Zentrum Meissner\, Karl-Peter-Str.9\, Hess. Lichtenau\, 37235\, Germany
ATTACH;FMTTYPE=image/jpeg:https://erliebenswert.de/wp-content/uploads/2026/03/Erlebnisauszeit-ResonanzYin.jpg
ORGANIZER;CN="Marina Orth":MAILTO:info@marina-orth.de
END:VEVENT
BEGIN:VEVENT
DTSTART;TZID=Europe/Berlin:20271130T110000
DTEND;TZID=Europe/Berlin:20280127T170000
DTSTAMP:20260420T174320
CREATED:20260301T174443Z
LAST-MODIFIED:20260302T135852Z
UID:6344-1827572400-1832605200@erliebenswert.de
SUMMARY:ResonanzYin: Trainer-Ausbildung
DESCRIPTION:6 Tage ResonanzYin™ Trainer-Ausbildung\nZur professionellen Anleitung regulativer Yin-Gruppenprozesse mit Klang- \, Atemarchitektur und Nervensystem-Kompetenz. \nDieses Kursformat welches erlernt wird\, dient der Regulation von Nervensystem\, Faszien und Bewusstseinsfeld. ResonanzYin™ verbindet klassische Yin-Prinzipien mit Atemführung\, Klangimpulsen und der Resonanzarchitektur der ORTHOmantie®. In langen\, achtsam gehaltenen Positionen wird das Fasziengewebe sanft stimuliert. Der Atem wird zum regulativen Anker\, Klang vertieft die Wahrnehmung und unterstützt die autonome Balance. Es entsteht ein Integrationsraum\, in dem Spannungen sich nicht durch Druck lösen\, sondern durch Erlaubnis. Dein Nervensystem lernt Sicherheit – Dein Körper antwortet. \nDu bietest als zertifizierter Trainer Deinen Teilnehmenden Selbsterfahrung mit dem vortreil der vertieften Körperwahrnehmung und Faszienregulation\, spürbare Entlastung von Stressmustern und Stabilisierung von verkörperter Selbstführung. \nDu kannst die Kursformate bei Menschen einsetzten\, die Regeneration suchen\, Yogapraktizierende\, Coaches und Fachkräfte und für\, alle\, die ihr Nervensystem nachhaltig stärken möchten. Achtung\, es ist kein Fitnesskurs. Keine therapeutische Behandlung. Kein Leistungs- oder Korrekturtraining. Du bietest als ausgebilder Trainer einen professionellen regulativen Erfahrungsraum. \nIn der Trainerstufe von ResonanzYin™ lernst Du\, regulative Yin-Sequenzen professionell anzuleiten und Gruppen sicher zu führen. Du erlernst Anatomie und Faszienverständnis\, Nervensystem-Dynamik in Gruppenprozessen\, Atemführung als Regulationsinstrument\, Klangimpulse in der Raumarchitektur\, Sequenzaufbau mit didaktischer Klarheit. Der Fokus liegt nicht auf persönlicher Erfahrung\, sondern auf professioneller Vermittlung. \n Lernziele\n• Eigenständige Konzeption regulativer Yin-Sequenzen\n• Professionelle Gruppenführung mit Nervensystem-Kompetenz\n• Sicherheit im Umgang mit Kontraindikationen\n• Didaktisch klare Anleitung von Atem- und Klangprozessen\n• Durchführung und Evaluation einer Lehrprobe \nDiese Ausbildung ist für Yogalehrende\, Coaches und Fachkräfte mit Praxiserfahrung\, Menschen\, die regulative Gruppenformate professionell leiten möchten geeignet. Es handelt sich nicht um eine Therapieausbildung\, keine medizinische Qualifikation und kein Performance-Training. Es ist eine Ausbildung zur professionellen Raumführung im regulativen Kontext. \nResonanz halten heißt Raum halten.\n  \n„Wer reguliert ist\, kann Regulation vermitteln. – Ich freue mich auf Dich.“ \nDeine Marina \n\nHier geht es zum Anmeldeformular: PDF Download\nHier Kontakt aufnehmen: Rückrufservice
URL:https://erliebenswert.de/event/resonanzyin-trainer-ausbildung/
LOCATION:Energie & Balance Zentrum Meissner\, Karl-Peter-Str.9\, Hess. Lichtenau\, 37235\, Germany
ATTACH;FMTTYPE=image/jpeg:https://erliebenswert.de/wp-content/uploads/2026/03/Trainer-Ausbildung-ResonanzYin.jpg
ORGANIZER;CN="Marina Orth":MAILTO:info@marina-orth.de
END:VEVENT
END:VCALENDAR