BEGIN:VCALENDAR
VERSION:2.0
PRODID:-//erliebensWERT - ECPv6.15.20//NONSGML v1.0//EN
CALSCALE:GREGORIAN
METHOD:PUBLISH
X-ORIGINAL-URL:https://erliebenswert.de
X-WR-CALDESC:Veranstaltungen für erliebensWERT
REFRESH-INTERVAL;VALUE=DURATION:PT1H
X-Robots-Tag:noindex
X-PUBLISHED-TTL:PT1H
BEGIN:VTIMEZONE
TZID:Europe/Berlin
BEGIN:DAYLIGHT
TZOFFSETFROM:+0100
TZOFFSETTO:+0200
TZNAME:CEST
DTSTART:20240331T010000
END:DAYLIGHT
BEGIN:STANDARD
TZOFFSETFROM:+0200
TZOFFSETTO:+0100
TZNAME:CET
DTSTART:20241027T010000
END:STANDARD
BEGIN:DAYLIGHT
TZOFFSETFROM:+0100
TZOFFSETTO:+0200
TZNAME:CEST
DTSTART:20250330T010000
END:DAYLIGHT
BEGIN:STANDARD
TZOFFSETFROM:+0200
TZOFFSETTO:+0100
TZNAME:CET
DTSTART:20251026T010000
END:STANDARD
BEGIN:DAYLIGHT
TZOFFSETFROM:+0100
TZOFFSETTO:+0200
TZNAME:CEST
DTSTART:20260329T010000
END:DAYLIGHT
BEGIN:STANDARD
TZOFFSETFROM:+0200
TZOFFSETTO:+0100
TZNAME:CET
DTSTART:20261025T010000
END:STANDARD
BEGIN:DAYLIGHT
TZOFFSETFROM:+0100
TZOFFSETTO:+0200
TZNAME:CEST
DTSTART:20270328T010000
END:DAYLIGHT
BEGIN:STANDARD
TZOFFSETFROM:+0200
TZOFFSETTO:+0100
TZNAME:CET
DTSTART:20271031T010000
END:STANDARD
END:VTIMEZONE
BEGIN:VEVENT
DTSTART;TZID=Europe/Berlin:20251006T202000
DTEND;TZID=Europe/Berlin:20251006T213000
DTSTAMP:20260420T215736
CREATED:20250305T152150Z
LAST-MODIFIED:20250305T152150Z
UID:5313-1759782000-1759786200@erliebenswert.de
SUMMARY:Oktober Aufschwung - Treff
DESCRIPTION:Erlebe Oktober Impulse\, Reflektion und Austausch zur ORTHOmantie… \nIn dieser Online – Stammtisch Begegnung geht es um Entfaltung\, Kraftlenkung & Energieschübe! \nGenieß die erLiebensWERTE Zeit\, um noch mehr wertvolle und sinnstiftende Einblicke und Erfahrungen zur Geomantie und der Aufschwungmagie einzusammeln. \nErfahre mehr darüber wie wir: \n\ndie Qualität unserer Emotionen frei leben und lieben können! *Glücksgefühle*\ndie Auflösung unserer unbewussten Prägungen als Fokussierung nutzen können! *Glücksentscheidungen*\ndie körperlichen Bedürfnisse beachten\, erfüllen und als positiven Strom lenken können! *Glücksströme*\ndie Zellbalance herstellen können und die Zellkommunikation optimieren können! *Glückshormone*\ndie Lebensfreude\, Fülle und kindliche Leichtigkeit als Naturprinzip resfreshen können! *Glückseligkeit*\ndie Herzmauern runter fahren und die Transformationskraft als Liebesflow potenieren können! *Liebesglück*   \n\nLass uns Gemeinsam den Begegnungsraum gestalten und Perspektiven und Fragestellungen die jetzt dran sind durchleuchten. Bringe gerne Deine Fragen mit und vor allem eine offene Haltung gegenüber neuen Erklärmodellen und Herzenserfahrungen. \nMeine Gabe ermöglicht es mir intuitiv die Gruppenbedürfnisse als Systemimpuls zu empfangen und daraus etwas nutzen bringendes für die Teilnehmenden als Erlebnis zu gestalten. Fühl Dich eingeladen meine 25 jährige Erfahrung als Mentorin\, Coach und Ausbilderin kennen und schätzen zu lernen. \nLade gerne Deine Lieben zu diesen Abenden ein und mach es Dir gemütlich.
URL:https://erliebenswert.de/event/oktober-aufschwung-treff/
ATTACH;FMTTYPE=image/jpeg:https://erliebenswert.de/wp-content/uploads/2024/12/erLiebensWERTEr-April-Zoom-Aufschwung-Treff-Marina-Orth-.jpg
ORGANIZER;CN="Marina Orth":MAILTO:info@marina-orth.de
END:VEVENT
BEGIN:VEVENT
DTSTART;TZID=Europe/Berlin:20251007T190000
DTEND;TZID=Europe/Berlin:20251007T210000
DTSTAMP:20260420T215736
CREATED:20251001T181253Z
LAST-MODIFIED:20251001T181253Z
UID:5985-1759863600-1759870800@erliebenswert.de
SUMMARY:Pangera Live Workshop 07.10.25
DESCRIPTION:Geburtsfeldentstörung – Alte Prägungen erkennen\, neue Freiheit leben \nJeder Mensch trägt das Feld seiner Geburt in sich. Ob Kaiserschnitt\, schwierige Umstände oder stille Verletzungen – das\, was damals geschah\, speichert sich tief in unserem System. Diese unsichtbaren Linien wirken bis heute – im Denken\, Fühlen\, Handeln und sogar im Körper. \nIm Live-Workshop mit Marina Orth öffnen wir gemeinsam einen lichtvollen Raum\, um diese Prägungen zu verstehen und neue Wege zu entdecken. \nDu erhältst Antworten auf zentrale Fragen: \n\nWarum wirken alte Geburtsprägungen noch heute – oft unbemerkt – in Beziehungen\, Entscheidungen und Selbstwert?\nWie erkenne ich Blockaden im Geburtsfeld auf energetischer\, emotionaler\, mentaler und körperlicher Ebene?\nWelche ersten Schritte helfen\, diese Linien zu entstören und den eigenen Aufschwungweg zu beginnen?\n\nMit Impulsen\, einer geführten Mini-Übung und praxisnahen Beispielen nimmst Du sofort anwendbares Wissen mit. Dein Gewinn: mehr Klarheit\, innere Freiheit und die Möglichkeit\, Dein Leben aus dem Herzen neu zu gestalten. \nMelde Dich jetzt an – und erlebe\, wie Dein Geburtsfeld zu einer Quelle der Kraft wird. \n 
URL:https://erliebenswert.de/event/pangera-live-workshop-07-10-25/
ATTACH;FMTTYPE=image/jpeg:https://erliebenswert.de/wp-content/uploads/2025/10/erLiebensWERTEr-Pangera-Geburtfeldentstoerung-Workshop-Marina-Orth-1.jpg
END:VEVENT
BEGIN:VEVENT
DTSTART;TZID=Europe/Berlin:20251012T180000
DTEND;TZID=Europe/Berlin:20251018T233000
DTSTAMP:20260420T215736
CREATED:20251009T172133Z
LAST-MODIFIED:20251009T172133Z
UID:6013-1760292000-1760830200@erliebenswert.de
SUMMARY:Kongress ganzheitliche Heilung12.10.25
DESCRIPTION:💫 Entfalte die Heilkraft in Dir – beim Ganzheitlichen Heilungskongress 2025! \nWir leben in einer Zeit\, in der viele Menschen spüren: Heilung geschieht nicht nur im Körper – verschiedene Faktoren tragen dazu bei\, ob wir das gesunde und glückliche Leben führen\, das uns zusteht 😊 \nDarum laden wir Dich von Herzen zum Online Kongress „Ganzheitliche Heilung“ ein – einer besonderen Begegnung mit über 30 führenden Expert:innen\, Heiler:innen und Bewusstseinslehrer:innen\, die ihre tiefsten Erkenntnisse\, Methoden und Erfahrungen mit Dir teilen. \nErlebe\, wie Körper\, Geist und Seele wieder in Einklang kommen – durch Wissen\, Energie und Inspiration aus den Bereichen: \n🌿 Natürliche Heilmethoden & Energiearbeit\n🧘‍♀️ Bewusstseinsforschung & Meditation\n💗 Selbstheilungskräfte aktivieren\n🔥 Energiefluss Innen und Außen \nJede*r Speaker teilt eine lebendige Wahrheit: Heilung ist möglich – auch für Dich. Und sie beginnt dort\, wo Du Dich selbst wieder spürst. \nIn wundervollen 6 Live Zoom Abenden laden dich außerdem unterschiedliche Experten ein\, um deinen eigenen Körper und deinen Energiehaushalt zu erforschen und zu heilen.  \nDieser Kongress wirkt bereits jetzt \n\nenergetisierend\nkraftvoll\naugenöffnend\nund tief berührend und heilend\n\nIch spreche am 16.10.25 auf dem Kongress und würde mich sehr freuen\, wenn du dich hier anmeldest und dabei bist
URL:https://erliebenswert.de/event/kongress-ganzheitliche-heilung12-10-25/
ATTACH;FMTTYPE=image/png:https://erliebenswert.de/wp-content/uploads/2025/10/Ganzheitliche-heilung-Online-Kongress-Headerimage.png
END:VEVENT
BEGIN:VEVENT
DTSTART;TZID=Europe/Berlin:20251013T200000
DTEND;TZID=Europe/Berlin:20251013T213000
DTSTAMP:20260420T215736
CREATED:20251012T053317Z
LAST-MODIFIED:20251012T053317Z
UID:6020-1760385600-1760391000@erliebenswert.de
SUMMARY:Ganzheitliche Heilung im Live Zoom 13.10.25
DESCRIPTION:Entfalte die Heilkraft in Dir – beim Ganzheitlichen Heilungskongress 2025! \nZu diesem Thema gehört auch das Befreien des Geburtsfeld\, die daraus nutzbare freie Energie ist pure Wirkkraft sein Leben und seine Wünsche in Gedanken\, Worten und Taten neu Aufzuladen. \nHeilung geschieht nicht nur im Körper – verschiedene Faktoren tragen dazu bei\, ob wir das gesunde und glückliche Leben führen\, das uns zusteht 😊 \nDarum laden Olivia und Annet Dich zu einem Live Event mit mir ein. Wir wünschen uns eine große Fragerunde. Ich stehe zum Thema BOVIS- WERTE\, Geburtsfeld und die geistige Resilienz nach einem Mini Vortragsimpuls ganz in eurem Dienste. Folgende FRagen kannst Du gerne an mich richten oder eigene Ergänzen. \n\nWie beeinflusst mein Geburtsfeld meine Energie und Lebensqualität?\nWarum können alte Prägungen aus der Geburt noch heute spürbar sein?\nWie wirkt sich eine Geburtsfeldentstörung auf Selbstheilung und Klarheit aus?\nWie kann ich mich von unbewussten Blockaden befreien und meinen Lebensfluss stärken?\nWelche positiven Veränderungen berichten Menschen nach einer Geburtsfeldentstörung?\nWie kann ich selbst meine Energie stärken und mich in meinem Alltag bewusster ausrichten?\n\nErfahre was das alles mit Deinem Licht\, Herz\, Bewusstseins\, und Körperfekd zu tun hat. Ich spreche auf jeden Fall über meine Forschungserkenntnisse der letzten 3 Jahre. \nWir sehen uns Montag\, den 13.10.25 um 20 Uhr im Zoom Raum der Möglichkeiten und würde mich sehr freuen\, wenn du dich hier anmeldest und dabei bist
URL:https://erliebenswert.de/event/ganzheitliche-heilung-im-live-zoom-13-10-25/
ATTACH;FMTTYPE=image/png:https://erliebenswert.de/wp-content/uploads/2025/10/Marina-Orth_.png
END:VEVENT
BEGIN:VEVENT
DTSTART;TZID=Europe/Berlin:20251017T191900
DTEND;TZID=Europe/Berlin:20251017T213000
DTSTAMP:20260420T215736
CREATED:20251001T190904Z
LAST-MODIFIED:20251001T190904Z
UID:5988-1760728740-1760736600@erliebenswert.de
SUMMARY:Kongress Zoom Abend 17.10.25
DESCRIPTION:🌟 Live mit Marina Orth – Geburtsfeldentstörung: Verlorene Identität erLösen\n📅 17.10. | 🕖 19:19 Uhr \nWas\, wenn der Schlüssel zu Deiner verlorenen Identität im Moment Deiner Geburt verborgen liegt?In diesem besonderen Live öffnet Marina Orth einen lichtvollen Heilraum\, in dem die unsichtbaren Prägungen Deines Geburtsfeldes sichtbar werden dürfen. \n✨ Alte Muster\, Verstrickungen und seelische Lasten\, die Dich vielleicht schon seit dem ersten Atemzug begleiten\, können sanft gelöst werden.💛 Dein Herz erinnert sich an seine wahre Melodie.🌿 Deine Lebensenergie richtet sich neu aus. \nMarinas ORTHOmantische® Begleitung schenkt Dir Klarheit\, Leichtigkeit und die Rückverbindung zu Deiner Essenz – dorthin\, wo Deine Identität nie verloren war\, sondern nur auf Dich gewartet hat. Lichtlogisch stellt sie die persönlichen Aufschwung Chancen für die Unterstützung durch die Geburtsfeldentstörung bereit. \n👉 In diesem Live geht Marina auf Fragen ein wie: \n\n\nWarum prägt das Geburtsfeld unser Identitätsempfinden so tief? \n\n\nWie erkenne ich alte Muster\, die mich bis heute blockieren? \n\n\nWas geschieht\, wenn ich meine ursprüngliche Essenz wieder spüre? \n\n\nWie fühlt es sich an\, wenn Identität nicht mehr „gesucht“\, sondern gelebt wird? \n\n\nUnd natürlich: Es gibt auch Raum für Deine persönlichen Fragen – damit Du Antworten bekommst\, die Dich unmittelbar weiterbringen und Dein Herz berühren. \nDieses Live ist Deine Einladung\, Dich von überholten Energien zu befreien\, Deine Seelenkraft zu spüren und Deinen Lebensfluss neu zu entfalten – als authentisches\, lichtvolles Sein.
URL:https://erliebenswert.de/event/live-stream-event-17-10-25/
ATTACH;FMTTYPE=image/jpeg:https://erliebenswert.de/wp-content/uploads/2025/10/erLiebensWERTEr-Geburtfeldentstoerung-Live-Stream-Marina-Orth-1.jpg
ORGANIZER;CN="Marina Orth":MAILTO:info@marina-orth.de
END:VEVENT
BEGIN:VEVENT
DTSTART;TZID=Europe/Berlin:20251021T202000
DTEND;TZID=Europe/Berlin:20251021T214200
DTSTAMP:20260420T215736
CREATED:20251001T170704Z
LAST-MODIFIED:20251001T170704Z
UID:5901-1761078000-1761082920@erliebenswert.de
SUMMARY:Live Produktion HeilTrance Titel 1
DESCRIPTION:🌟 Zellvitalflow HeilTrance – Live um 20:20 Uhr\nWas in Deiner HeilTrance geschieht:In jeder HeilTrance öffne ich für Dich einen geschützten Raum\,der auf tiefer seelischer\, emotionaler und energetischer Ebene wirkt. \nDu darfst einfach empfangen – Dein System weiß\, was es braucht.Die ORTHOmantie® verbindet Klarheit\, Licht und Herzintelligenz:🌀 Belastungen lösen sich💛 Herzensmauern fallen🌿 Dein innerer Klang richtet sich neu aus \nIch wirke im morphischen Feld – verbunden mit Deinem Seelenplan.So fließen genau die Heilimpulse\, die Deine Seele jetzt integrieren kann.Dein Körper\, Dein Geist und Deine Energie dürfen sich neu sortieren. \nDu brauchst nichts zu tun.Nur atmen\, spüren – und empfangen. \n✨ Tipp: Lege Deine Hände auf Dein Herz.Erlaube Dir\, berührt zu werden.Die Trance wirkt über Worte hinaus. \n\n„Dein Herz kennt den Weg. Ich halte den Raum – für Deine Rückverbindung.“ – Marina Orth \n\n  \nDiese 8 Live Produktionen von Album 9 darfst Du im Oktober als ganz besonderes \n8 Wochen Online Aufschwung Retreat erleben.\n\nJeder Dienstag ist für die Heil-Trancen als feste Auszeit reserviert und der Donnertag steht mit den Bonusvideos nach Lust und Laune unter dem Motto: \“ERLIEBE DICH NEU!\“ mit meiner Yin Yoga Essenz zum ausprobieren zur Verfügung. \n  \n8 Aufschwung Trancen\, 8 Yin Yoga Essenzen zum Mitmachen \nund 8 Fernheilungsimpulse für mehr Energie… \n  \nEnergetisch und heilerisch unterstützen Dich die Trancen: \n\n… in der Auflösung ungeliebter Prägungen\n… im bearbeiten energetischer Fußabrücke\n… in der Befriedung von Unstimmigkeiten\n… im Umgang mit Ressourcen und Gaben\n… in der Selbstheilung und Bewusstwerdung\n… im Umgang mit Veränderungskräften\n… im Erleben der Schöpferkräfte und Handlungsvielfalt\n\n  \nDeine Inhalte Album 9: \nAlbum 9 | erLiebensWERTEs Seelenglück – SeelyMO® \“ErLiebe Alles & Schöpfe aus dem WahrSinn Deines Herzens!\“\nEs geht um Dein Dir selbst bewusst sein\, Deine Transzendenz und um Deinen göttlich\, irdischen Liebesflow für Dein sinnerfülltes Leben mit Zugang zu eigenen Weisheiten. Mit Tipps gegen Trennendes. \nStarte gerne jetzt Deine 8 Wochen Online: \n\“ZellvitalFlow – Zeit für Dich\“ für nur 39\,39€!\n 
URL:https://erliebenswert.de/event/live-produktion-heiltrance-titel-1/
ATTACH;FMTTYPE=image/jpeg:https://erliebenswert.de/wp-content/uploads/2025/10/1-Titel-Live-Produktion-Album-9-21.10.25-Aufschwung-Marina-Orth.jpg
ORGANIZER;CN="Marina Orth":MAILTO:info@marina-orth.de
END:VEVENT
BEGIN:VEVENT
DTSTART;TZID=Europe/Berlin:20251025T110000
DTEND;TZID=Europe/Berlin:20260729T170000
DTSTAMP:20260420T215736
CREATED:20241006T101228Z
LAST-MODIFIED:20260208T112543Z
UID:3958-1761390000-1785344400@erliebenswert.de
SUMMARY:Ausbildung Aufschwung Magie 25/26
DESCRIPTION:Ausbildung zur Aufschwungmagie als ORTHOmantie – HeilCoach®:  \n\“Wie wäre es die erLiebensWERTE Aufschwungmagie selber zu erlernen?\“ \n\n Du bist an einem Wendepunkt und möchtest Dich beruflich verändern?\n Du suchst nach neuen Tools für Dein Wirken?\n Du spürst\, dass \“alte\“ Methoden neue Impulse benötigen?\n\nDann lass Dich in den 9 Monaten als HeilCoach ausbilden und Erwecke Dein Wirkkraft neu! \nEine Entstörung und Energetisierung des Geburtsfeldes kannst Du jetzt als Ausbildung buchen und andere im Rahmen ihrer Klärungsstrategien unterstützen. Du lernst in nur 9 Monaten sowohl quantenheilerisch als auch fernmagisch alle Felder und Ebenen für andere zu Reinigen und zu Aktivieren. Dazu zählen Energetische Heilungstools die im Rahmen der Vorbereitung zur Zeugung wirken\, die heilige Niederkunft refreshen\, die Körperfelder und die Energiessysteme feinstofflich zu Harmonisieren. \nOnline über Zoom & Live in Kassel \nDie 3 Ausbildungsetappen sind verteilt auf 9 Monate angelegt. Zwischen jeder der drei  Nahphasen in Kassel gibt es einmal im Monat Zoom Coaching Abende. So ergeben sich in Summe zwei Quartale Ausbildungsinput und ein Quartal für Ausbildungsfeedback bis zur persönlichen Einweihung. \n6 Tage in Kassel | 6 Abende über Zoom | Peergroups und mehr… \nErLiebensWERTE Inhalte: \nEnergetische Zeugungsfeldbereinigung: Die energetische Zeugungsfeldbereinigung ist als ein sehr komplexes Feld durch Raum und Zeit zu verstehen und beinhaltet zahreiche einzelne Tools magisch alchemistischer Art. \nGeomantisch angelehnte Geburtsortentstörung: Diese holistische Geburtstaumentstörung beinhaltet alle feinstofflichen Ebenen der 10×10 qm des Geburtsortes eines Menschen\, der fortan freie Selbstheilungsimpulse genießt. \nHeilerische Körperfeldklärung: Die heilerische Körperfeldklärung vereint alle magische Tools zum refreshen der energetischen Systeme innerhalb eines Menschen und dessen Ahnen- und Gesamtsystems und wirkt in alle Ursprungsfelder unseres SEINS. \nKraftvolle Lebensfeldenergetisierung: Die kraftvolle Lebensfeldenergetisierung aktiviert den Kraftplatz in jedem einzelnen und verbindet diesen mit dem alleinfassenden Liebesbewusstsein der Verbundenheit. \n \n  \n*********\nDas Wort ORTHOmantie setzt sich zusammen aus den Wörtern ORTHO aus dem Griechischen und bedeutet „richtig“\, „gerade“\, „aufrecht“ (wie in Orthopädie = „die Lehre vom geraden Kind“ oder Orthodoxie = „richtiger Glaube“). und dem Wort MANTIE was auch für „Wahrhaftig sein“ oder\, „Weisheit“ oder „WahrSinn“\, „HerzSinn“ oder klassisch: „Weissagung bzw. Wahrsagung“ steht.\n********** \nDer Energieausgleich für diese Ausbildung 25/26 inkl. MwSt. ist: \n\nEinführunspreis 25/26: nur 2.799 € anstatt 26/27 regulär 3.399 €.\nFrühbucherpreis 25/26: bis 31.03.2025 nur 2.298 € anstatt 26/27 regulär 3.099 €.\n\nDie Zahlungsbedingungen sind standardisiert 33\,33% direkt bei Buchung\, 33\,33% drei Monate vor Ausbildungsbeginn und 33\,33% bis zum 1. Ausbildungstag. Im Rahmen der Nahphase sind Übernachtung\, An – und Abreise selbst zu tragen. Die Seminarverpflegung ist auf Selbstzahlerbasis am Seminarort und Anreisetag selbst zu tragen. \nBeachte die neuen Termine Mai & Oktober Termine für 2026 & 2027 \n  \nHier findest Du mehr Informationen für Deine Anmeldung: \nhttps://mein.erliebenswert.de/o/aufschwung-magie-ausbildung/ \n 
URL:https://erliebenswert.de/event/aufschwung-magie-ausbildung/
LOCATION:Balance Kassel\, Damaschekstrasse 10\, Kassel\, Hessen\, 34121\, Germany
ATTACH;FMTTYPE=image/jpeg:https://erliebenswert.de/wp-content/uploads/2025/01/ORTHOmantie-Ausbildung-Kalenderbild-2026.jpg
ORGANIZER;CN="Marina Orth":MAILTO:info@marina-orth.de
END:VEVENT
BEGIN:VEVENT
DTSTART;TZID=Europe/Berlin:20251028T202000
DTEND;TZID=Europe/Berlin:20251028T214200
DTSTAMP:20260420T215736
CREATED:20251001T171218Z
LAST-MODIFIED:20251001T171218Z
UID:5915-1761682800-1761687720@erliebenswert.de
SUMMARY:Live Produktion HeilTrance Titel 2
DESCRIPTION:🌟 Zellvitalflow HeilTrance – Live um 20:20 Uhr\nWas in Deiner HeilTrance geschieht:In jeder HeilTrance öffne ich für Dich einen geschützten Raum\,der auf tiefer seelischer\, emotionaler und energetischer Ebene wirkt. \nDu darfst einfach empfangen – Dein System weiß\, was es braucht.Die ORTHOmantie® verbindet Klarheit\, Licht und Herzintelligenz:🌀 Belastungen lösen sich💛 Herzensmauern fallen🌿 Dein innerer Klang richtet sich neu aus \nIch wirke im morphischen Feld – verbunden mit Deinem Seelenplan.So fließen genau die Heilimpulse\, die Deine Seele jetzt integrieren kann.Dein Körper\, Dein Geist und Deine Energie dürfen sich neu sortieren. \nDu brauchst nichts zu tun.Nur atmen\, spüren – und empfangen. \n✨ Tipp: Lege Deine Hände auf Dein Herz.Erlaube Dir\, berührt zu werden.Die Trance wirkt über Worte hinaus. \n\n„Dein Herz kennt den Weg. Ich halte den Raum – für Deine Rückverbindung.“ – Marina Orth \n\n  \nDiese 8 Live Produktionen von Album 9 darfst Du im Oktober als ganz besonderes \n8 Wochen Online Aufschwung Retreat erleben.\n\nJeder Dienstag ist für die Heil-Trancen als feste Auszeit reserviert und der Donnertag steht mit den Bonusvideos nach Lust und Laune unter dem Motto: \“ERLIEBE DICH NEU!\“ mit meiner Yin Yoga Essenz zum ausprobieren zur Verfügung. \n  \n8 Aufschwung Trancen\, 8 Yin Yoga Essenzen zum Mitmachen \nund 8 Fernheilungsimpulse für mehr Energie… \n  \nEnergetisch und heilerisch unterstützen Dich die Trancen: \n\n… in der Auflösung ungeliebter Prägungen\n… im bearbeiten energetischer Fußabrücke\n… in der Befriedung von Unstimmigkeiten\n… im Umgang mit Ressourcen und Gaben\n… in der Selbstheilung und Bewusstwerdung\n… im Umgang mit Veränderungskräften\n… im Erleben der Schöpferkräfte und Handlungsvielfalt\n\n  \nDeine Inhalte Album 9: \nAlbum 9 | erLiebensWERTEs Seelenglück – SeelyMO® \“ErLiebe Alles & Schöpfe aus dem WahrSinn Deines Herzens!\“\nEs geht um Dein Dir selbst bewusst sein\, Deine Transzendenz und um Deinen göttlich\, irdischen Liebesflow für Dein sinnerfülltes Leben mit Zugang zu eigenen Weisheiten. Mit Tipps gegen Trennendes. \nStarte gerne jetzt Deine 8 Wochen Online: \n\“ZellvitalFlow – Zeit für Dich\“ für nur 39\,39€!\n 
URL:https://erliebenswert.de/event/live-produktion-heiltrance-titel-2/
ATTACH;FMTTYPE=image/jpeg:https://erliebenswert.de/wp-content/uploads/2025/10/2-Titel-Live-Produktion-Album-9-28.10.25-Aufschwung-Marina-Orth.jpg
ORGANIZER;CN="Marina Orth":MAILTO:info@marina-orth.de
END:VEVENT
END:VCALENDAR