BEGIN:VCALENDAR
VERSION:2.0
PRODID:-//erliebensWERT - ECPv6.15.20//NONSGML v1.0//EN
CALSCALE:GREGORIAN
METHOD:PUBLISH
X-WR-CALNAME:erliebensWERT
X-ORIGINAL-URL:https://erliebenswert.de
X-WR-CALDESC:Veranstaltungen für erliebensWERT
REFRESH-INTERVAL;VALUE=DURATION:PT1H
X-Robots-Tag:noindex
X-PUBLISHED-TTL:PT1H
BEGIN:VTIMEZONE
TZID:Europe/Berlin
BEGIN:DAYLIGHT
TZOFFSETFROM:+0100
TZOFFSETTO:+0200
TZNAME:CEST
DTSTART:20240331T010000
END:DAYLIGHT
BEGIN:STANDARD
TZOFFSETFROM:+0200
TZOFFSETTO:+0100
TZNAME:CET
DTSTART:20241027T010000
END:STANDARD
BEGIN:DAYLIGHT
TZOFFSETFROM:+0100
TZOFFSETTO:+0200
TZNAME:CEST
DTSTART:20250330T010000
END:DAYLIGHT
BEGIN:STANDARD
TZOFFSETFROM:+0200
TZOFFSETTO:+0100
TZNAME:CET
DTSTART:20251026T010000
END:STANDARD
BEGIN:DAYLIGHT
TZOFFSETFROM:+0100
TZOFFSETTO:+0200
TZNAME:CEST
DTSTART:20260329T010000
END:DAYLIGHT
BEGIN:STANDARD
TZOFFSETFROM:+0200
TZOFFSETTO:+0100
TZNAME:CET
DTSTART:20261025T010000
END:STANDARD
END:VTIMEZONE
BEGIN:VEVENT
DTSTART;TZID=Europe/Berlin:20250415T202000
DTEND;TZID=Europe/Berlin:20250605T214200
DTSTAMP:20260421T035145
CREATED:20241013T093623Z
LAST-MODIFIED:20241013T093623Z
UID:4064-1744748400-1749159720@erliebenswert.de
SUMMARY:Online Energyflow Retreat
DESCRIPTION:Die Live Produktion von Album 8 darfst Du im April erstmalig als 8 Wochen Online Aufschwung Retreat erleben.  \nDer Dienstag ist für die Heil-Trancen als feste gemeinsame Auszeit reserviert und Donnertags wird das Bonus Video Material meiner Yoga Lieblingsübungen nach Lust und Laune unter dem Motto: \“ERLIEBE DICH NEU!\“ zum nachmachen freigeschaltet. \n8 Aufschwung Trancen\, 8 Yoga Essenzen zum Mitmachen und \n8 Fernheilungsimpulse für mehr Freiraum…\nWas Dich im Energyflow erwartet: \n\n8x Dienstags eine Live Produktion einer Aufschwung Heil – Trance um 20:20\n8x Donnerstags Bonusmaterial aus meinen lieblings eine Yoga Essenzen ab 20:20h online\n8 Fernheilimpulse: Bewusstseinsschübe\n8 Wochen Energy- und Liebesflow\n\nDauerhafter & flexibler Streaming Zugang: \n\nAlbum 8 mit allen Trancen und Aufschwungtools\nMagische Yoga Essenz Videos mit Tutorials\nWorksbook zum Herzöffnenden Liebesflow\n\nSicher Dir Deine 8 Wochen Online \n\“Energy Flow – Zeit für Dich\“ für nur 39\,39€!\nEnergetisch und heilerisch unterstützen Dich die Trancen: \n\n… in der Auflösung ungeliebter Prägungen\n… im bearbeiten energetischer Fußabrücke\n… in der Befriedung von Unstimmigkeiten\n… im Umgang mit Ressourcen und Gaben\n… in der Selbstheilung und Bewusstwerdung\n… im Umgang mit Veränderungskräften\n… im Erleben der Schöpferkräfte und Handlungsvielfalt\n\nDeine Inhalte Album 8: \nAlbum 8 | erLiebensWERTEs Liebesglück – LovlyMO® \“ErLiebe Dich neu & erLebe Dich im Liebesflow!\“\nEs geht um Deine Selbstliebe\, Deine Aktivierung Deiner Gaben\, und um Deine Bewusstseinserhöhung für einen lichtvollen Umgang mit Deinen Schöpfungskräften im hier und jetzt. Mit Tipps gegen Unliebsames. \nWann ist welches Album dienlich? Wenn Dich viel: \n\n… ablenkt\, dann stärke Deine Ruhe & Dein Selbst mit Album 1. (bei Alltagsablenkung)\n… runterzieht\, dann bring Dich in den Fluss mit Album 2. (bei Energieräubern)\n… emotional herausfordert\, dann erlöse dieses mit Album 3. (bei Emotionsachterbahnen)\n… mental beschäftigt\, dann stärke Deinen Fokus mit Album 4. (bei Kopfkino)\n… körperlich blockiert\, dann ist Coaching mit Album 5 dran. (bei Körperblockaden)\n… hormonell aufwühlt\, dann sind Infos aus Album 6 dienlich.  (bei Hormonchaos)\n… geistiges beunruhigt\, dann nutze Übungen aus Album 7. (bei Begrenzungen)\n… sabotierendes begleitet\, dann nutze die Impulse aus Album 8. (bei Unliebsamem.)\n… beängstigt\, dann nutze die Perspektive des Album 9. (bei Trennendem.)\n\nZur Albumauswahl: https://mein.erliebenswert.de/#alben \n  \nTIPP: Dort kannst Du auch den Aufschwung Club mit allen 9 Heil Trance Albenwählen 😉 \nFinale 108 ORTHOmantische® Impulse mit Selbstcoachingtools zur Energieerhöhung. (Ratenzahlung ist eingerichtet) \nKomm in den Aufschwung Heil Trance Club für mehr Lebensenergie\, Freude & Freiraum \nErLebe Deine Schöpferkräfte! Löse mit Hilfe der 108 Heilimpulsen und hinterlegten Coaching Inhalten ungeliebte Prägungen auf. Bereinige negative energetische Fußabrücke und aktiviere Deine Selbstheilungskräfte. Gönn Dir dank der ORTHOmantie Methode große Bewusstseinssprünge. Besonders wenn Dich etwas ablenkt\, runterzieht oder Du geistig\, emotional\, mental\, körperlich oder hormonell herausgefordert bist. Jedes der 9 hinterlegten Alben bietet Dir Fokus auf Deine Transformation und natürliche Stressregulation. \n  \nStarte gerne erstmal Deine 8 Wochen Online \n\“Energy Flow – Zeit für Dich\“ für nur 39\,39€!
URL:https://erliebenswert.de/event/live-produktion-album-8/
ATTACH;FMTTYPE=image/jpeg:https://erliebenswert.de/wp-content/uploads/2024/10/LovlyMO-erLiebensWERTEs-Liebesglueck-April-Retreat-3-.jpg
ORGANIZER;CN="Marina Orth":MAILTO:info@marina-orth.de
END:VEVENT
BEGIN:VEVENT
DTSTART;TZID=Europe/Berlin:20250602T202000
DTEND;TZID=Europe/Berlin:20250602T213000
DTSTAMP:20260421T035145
CREATED:20241201T092445Z
LAST-MODIFIED:20241201T092445Z
UID:4234-1748895600-1748899800@erliebenswert.de
SUMMARY:Juni Aufschwung - Treff
DESCRIPTION:Erlebe Juni Impulse\, Reflektion und Austausch zur ORTHOmantie… \nIn dieser Online – Stammtisch Begegnung geht es um Entfaltung\, Kraftlenkung & Energieschübe! \nGenieß die erLiebensWERTE Zeit\, um noch mehr wertvolle und sinnstiftende Einblicke und Erfahrungen zur Geomantie und der Aufschwungmagie einzusammeln. \nErfahre mehr darüber wie wir: \n\ndie Qualität unserer Emotionen frei leben und lieben können! *Glücksgefühle*\ndie Auflösung unserer unbewussten Prägungen als Fokussierung nutzen können! *Glücksentscheidungen*\ndie körperlichen Bedürfnisse beachten\, erfüllen und als positiven Strom lenken können! *Glücksströme*\ndie Zellbalance herstellen können und die Zellkommunikation optimieren können! *Glückshormone*\ndie Lebensfreude\, Fülle und kindliche Leichtigkeit als Naturprinzip resfreshen können! *Glückseligkeit*\ndie Herzmauern runter fahren und die Transformationskraft als Liebesflow potenieren können! *Liebesglück*   \n\nLass uns Gemeinsam den Begegnungsraum gestalten und Perspektiven und Fragestellungen die jetzt dran sind durchleuchten. Bringe gerne Deine Fragen mit und vor allem eine offene Haltung gegenüber neuen Erklärmodellen und Herzenserfahrungen. \nMeine Gabe ermöglicht es mir intuitiv die Gruppenbedürfnisse als Systemimpuls zu empfangen und daraus etwas nutzen bringendes für die Teilnehmenden als Erlebnis zu gestalten. Fühl Dich eingeladen meine 25 jährige Erfahrung als Mentorin\, Coach und Ausbilderin kennen und schätzen zu lernen. \nLade gerne Deine Lieben zu diesen Abenden ein und mach es Dir gemütlich.
URL:https://erliebenswert.de/event/juni-aufschwung-treff/
ATTACH;FMTTYPE=image/jpeg:https://erliebenswert.de/wp-content/uploads/2024/12/erLiebensWERTEr-Juni-Zoom-Aufschwung-Treff-Marina-Orth-.jpg
ORGANIZER;CN="Marina Orth":MAILTO:info@marina-orth.de
END:VEVENT
BEGIN:VEVENT
DTSTART;TZID=Europe/Berlin:20250610T191900
DTEND;TZID=Europe/Berlin:20250610T204500
DTSTAMP:20260421T035145
CREATED:20250220T113141Z
LAST-MODIFIED:20250220T113141Z
UID:4357-1749583140-1749588300@erliebenswert.de
SUMMARY:Online Infoworkshop Kraft- & Energielenkung
DESCRIPTION:Dies ist Deine einmalige Chance im Zoom Einführungsworkshop die vergünste Markteinführung  \ndes letzten großen ORTHOmantie® Produktes aus der erLiebensWERT Serie zu genießen: \n  \nSei an diesem Abend zur Geburtsstunde gratis live dabei\,  \nwenn dieses kraftvolle Produkt (Auch Inhalt der ORTHOmantie-HeilCoach® Ausbildung) das Licht der Welt erblickt. \n  \nIn diesem Workshop erkläre ich Dir das startende Selbstforschungsprojekt\, zu dem ich Dich herzlich einlade. Voraussichtlich werden wir für 3 Monate mit 3 Workshops und 3 Fragebögen enger miteinander verbunden sein. Ich werde uns einen heiligen Raum eröffnen und einen Kraftplatz für Deine Transformation kreieren. P.S.: Bei der Geburtfeldentstörung haben wir mit einer Forschungsgruppe von April 24 bis Dezember 24 einen Erfahrungsschatz zur Wirkweise von über 108 Personen genutzt. Dieser Schatz wurde von mir vor der Veröffentlichung der Geburtsfeldentstörung in die Produktvollendung eingefügt. Und genauso wünsche ich es mir wieder! \n  \nWarum?  \nWeil ich kein theoretisches Wissen in der erLiebensWERTEn Welt präsentiere\, sondern den Anspruch und Fokus auf ein höchstmögliches erLösen\, erLeben & erLieben lege. Was bedeutet\, dass Rückmeldungen wie die die Fernheilung im Alltag wirkt und was sich zeigt wesentliche Aspekte sind\, die im Mitglieberbereich und im Begleitheft verankert sein sollen. Daher gibt es wiede 108 Plätze für diese intensiv Betreuung zum ganz schmalen Energieausgleich in Höhe von nur 39\,39€. Das liegt zum einen Einen an den Produktionskosten für Videoschnitt\, Technik und grafischer Ausarbeitung und zum Anderen an der natürlichen Vorgehensweise von geben und nehmen im Einklang. Selbstverständlich erhältst Du dauerhaften und flexiblen Zugang zu diesem Mitgliederbereich mit allen entstehenden Inhalten\, die Spezialbetreuung und LiveStreams durch mich und alle Fernheilungsimpulse diesbezüglich. \n  \nHier endlich mehr über das entstehende Produkt:  \nDeine Kraft- & Energielenkung!\n\n\nMit ORTHOmantischer® Energieübertragung! \n  \n\n\n\n\n„Der Weg zu Deinem Lichtalltag beginnt genau jetzt.“ Es geht um gelebte Spiritualität in alltäglichen Situationen. \nIch freue mich\, Dich auf dieser Reise zu begleiten! Entfalte DEIN geistiges Potenzial und nutze mehr Handlungsflexibilität… \nMelde Dich an und sei Teil dieses besonderen Projekts. Der Weg wartet auf Dich! \n„Worte sind Werte und LichtCodes\, sie sind Schlüsselkräfte der Weisheit. \nLenkst Du Deine Gedanken & Worte\, lenkst Du Dein Leben in Fülle.“  \n– Marina Orth\, erLiebensWERTEs Bewusstsein \nIch freue mich darauf\, wenn Du auch diese Sommerreise mit mir gehst. Lass mich Dich begleiten\, Dich unterstützen und mich zusehen\, wie Du Dein volles Potenzial entfaltest: Fahre die vollen PS auf der Straße Deines Lebens aus! \nJetzt anmelden und Teil des Projekts werden!https://mein.erliebenswert.de/o/kraftlenkung/ \n\n\n\n\n\n\n  \nErLiebe Dich kraftvoll! \n\nfernmagische Auf- & Ausrichtung\nalltagstaugliches Aufschwung-Memo\nheilerische Lebensenergie Trance\nzellvitalflow® Video Tutorials\n\n\n\n\n\nFernheilung und Coaching für mehr Mentalkraft und Selbststärkung!\nErfahre\, wie Du Dir und Allem noch freier\, noch beweglicher und noch ausgleichender begegnen kannst… \nDu aktivierst Deine Selbstheilungskräfte\, Deinen Aufschwung und Deine Schöpferkräfte. \n\nErlöse Dich und erhöhe Deine Lebens- qualitätsgrenze\nLass alles hinter Dir\, erinnere Dich und nutze die freie Energie für Deinen Lebensplan.\nNutze Deine Zellbalance und Deine Selbstheilungskräfte\nKomm in Deinen ZellVitalFlow und entfalte durch die Geomantie alle Potentiale.\nStärke Dich auf allen Ebenen und Selbstermächtige Dich\nLass uns Deinen göttlich\, irdischen Liebesflow als Deine innere Energiequelle aktivieren.\n\nDieses ORTHOmantische Aufschwung Angebot ist ein Garant für mehr Bewusstwerdung\, bessere Stressregulation und dient der Selbststärkung auf allen Ebenen. Es beinhaltet die Fernentstörung und Energetisierung durch mich. Durch den inkludierten Zugang zum Mitgliederbereich erhältst Du hilfreiche Tools\, um Deine Transformation zu erleichtern und die Wirkung mit Deiner Bewusstwerdung selber zu Potenzieren.
URL:https://erliebenswert.de/event/infoworkshop-kraft-energielenkung/
ATTACH;FMTTYPE=image/jpeg:https://erliebenswert.de/wp-content/uploads/2025/02/ORTHOmantische-Kraftlenkung-erLiebensWERTEs-von-Marina-Orth-.jpg
ORGANIZER;CN="Marina Orth":MAILTO:info@marina-orth.de
END:VEVENT
END:VCALENDAR