BEGIN:VCALENDAR
VERSION:2.0
PRODID:-//erliebensWERT - ECPv6.15.20//NONSGML v1.0//EN
CALSCALE:GREGORIAN
METHOD:PUBLISH
X-WR-CALNAME:erliebensWERT
X-ORIGINAL-URL:https://erliebenswert.de
X-WR-CALDESC:Veranstaltungen für erliebensWERT
REFRESH-INTERVAL;VALUE=DURATION:PT1H
X-Robots-Tag:noindex
X-PUBLISHED-TTL:PT1H
BEGIN:VTIMEZONE
TZID:Europe/Berlin
BEGIN:DAYLIGHT
TZOFFSETFROM:+0100
TZOFFSETTO:+0200
TZNAME:CEST
DTSTART:20240331T010000
END:DAYLIGHT
BEGIN:STANDARD
TZOFFSETFROM:+0200
TZOFFSETTO:+0100
TZNAME:CET
DTSTART:20241027T010000
END:STANDARD
BEGIN:DAYLIGHT
TZOFFSETFROM:+0100
TZOFFSETTO:+0200
TZNAME:CEST
DTSTART:20250330T010000
END:DAYLIGHT
BEGIN:STANDARD
TZOFFSETFROM:+0200
TZOFFSETTO:+0100
TZNAME:CET
DTSTART:20251026T010000
END:STANDARD
BEGIN:DAYLIGHT
TZOFFSETFROM:+0100
TZOFFSETTO:+0200
TZNAME:CEST
DTSTART:20260329T010000
END:DAYLIGHT
BEGIN:STANDARD
TZOFFSETFROM:+0200
TZOFFSETTO:+0100
TZNAME:CET
DTSTART:20261025T010000
END:STANDARD
END:VTIMEZONE
BEGIN:VEVENT
DTSTART;TZID=Europe/Berlin:20250217T202000
DTEND;TZID=Europe/Berlin:20250217T213000
DTSTAMP:20260421T093441
CREATED:20241201T090305Z
LAST-MODIFIED:20241201T090305Z
UID:4222-1739823600-1739827800@erliebenswert.de
SUMMARY:Februar Aufschwung - Treff
DESCRIPTION:Erlebe Februar Impulse\, Reflektion und Austausch zur ORTHOmantie… \nIn dieser Online – Stammtisch Begegnung geht es um Entfaltung\, Kraftlenkung & Energieschübe! \nGenieß die erLiebensWERTE Zeit\, um noch mehr wertvolle und sinnstiftende Einblicke und Erfahrungen zur Geomantie und der Aufschwungmagie einzusammeln. \nErfahre mehr darüber wie wir: \n\ndie Qualität unserer Emotionen frei leben und lieben können! *Glücksgefühle*\ndie Auflösung unserer unbewussten Prägungen als Fokussierung nutzen können! *Glücksentscheidungen*\ndie körperlichen Bedürfnisse beachten\, erfüllen und als positiven Strom lenken können! *Glücksströme*\ndie Zellbalance herstellen können und die Zellkommunikation optimieren können! *Glückshormone*\ndie Lebensfreude\, Fülle und kindliche Leichtigkeit als Naturprinzip resfreshen können! *Glückseligkeit*\ndie Herzmauern runter fahren und die Transformationskraft als Liebesflow potenieren können! *Liebesglück*   \n\nLass uns Gemeinsam den Begegnungsraum gestalten und Perspektiven und Fragestellungen die jetzt dran sind durchleuchten. Bringe gerne Deine Fragen mit und vor allem eine offene Haltung gegenüber neuen Erklärmodellen und Herzenserfahrungen. \nMeine Gabe ermöglicht es mir intuitiv die Gruppenbedürfnisse als Systemimpuls zu empfangen und daraus etwas nutzen bringendes für die Teilnehmenden als Erlebnis zu gestalten. Fühl Dich eingeladen meine 25 jährige Erfahrung als Mentorin\, Coach und Ausbilderin kennen und schätzen zu lernen. \nLade gerne Deine Lieben zu diesen Abenden ein und mach es Dir gemütlich.
URL:https://erliebenswert.de/event/februar-aufschwung-treff/
ATTACH;FMTTYPE=image/jpeg:https://erliebenswert.de/wp-content/uploads/2024/12/erLiebensWERTEr-Feb-Zoom-Aufschwung-Treff-Marina-Orth-.jpg
ORGANIZER;CN="Marina Orth":MAILTO:info@marina-orth.de
END:VEVENT
BEGIN:VEVENT
DTSTART;TZID=Europe/Berlin:20250222T110000
DTEND;TZID=Europe/Berlin:20250222T170000
DTSTAMP:20260421T093441
CREATED:20241129T115616Z
LAST-MODIFIED:20241129T115616Z
UID:4202-1740222000-1740243600@erliebenswert.de
SUMMARY:Ballance Einschulungscoaching Kassel
DESCRIPTION:Aufrichtung & Schmerzregulation mit der BALLance Methode nach Dr. Tanja Kühne! \n8 x Gruppencoaching im Balance Kassel für mehr Entlastung\, Flexibilität und Wohlbefinden… \nAtme Dich frei\, erlebe mehr Beweglichkeit & Balance \nSei beim nächsten Einschulungscoaching in Kassel dabei\, wenn es 8 x 1h mittwochs & samstags darum geht diese wirkungsvolle Methode zu erlernen. Nicht nur für Deine Bandscheiben und Deine Wirbelsäule bietet die magische Übung Entlastung und Aufrichtung\, sondern auch für Dich in Deinem Leben. \n  \n4 Wochen Termine & Inhalte  \nMittwochs 20 – 21 & samstags 11-12 Uhr Daten: \nSa: 22. & Mi: 26. Februar &  01./05./08./12./15./ 19. März 2025 \n  \nEin schmerzfreier Rücken\, innere Balance und mehr Selbstbewusstsein – davon berichten regelmäßig die Teilnehmenden. \nDu erfährst sowohl die vier Punkt Übungen\, die zwei Punkt Übungen und die ein Punkt Varianten\, um zukünftig Deine Selbstwirksamkeit in den Alltag zu integrieren.  Nach dem Einschulungsworkshop kannst Du Dich eigenmächtig mit dieser Methode und Deinem sofortigem Schmerzmanagement auseinander setzten. \nNur 5 Minuten am Tag helfen Dir bereits dabei entspannter durch Leben zu gehen und Deine wahre Größe einzunehmen. \nHier kannst Du Dich anmelden und Dir Deinen Platz sichern: 0561 890870 \nOder Du füllst das Formular aus und sendest es an info@marina-orth.de: Download Anmeldung\n\nHier erfährst Du mehr über mich und die Methode: \nhttps://mein.erliebenswert.de/o/ballance-methode/
URL:https://erliebenswert.de/event/ballance-einschulungscoaching-kassel/
LOCATION:Balance Kassel\, Damaschekstrasse 10\, Kassel\, Hessen\, 34121\, Germany
ORGANIZER;CN="Marina Orth":MAILTO:info@marina-orth.de
END:VEVENT
END:VCALENDAR