BEGIN:VCALENDAR
VERSION:2.0
PRODID:-//erliebensWERT - ECPv6.15.20//NONSGML v1.0//EN
CALSCALE:GREGORIAN
METHOD:PUBLISH
X-ORIGINAL-URL:https://erliebenswert.de
X-WR-CALDESC:Veranstaltungen für erliebensWERT
REFRESH-INTERVAL;VALUE=DURATION:PT1H
X-Robots-Tag:noindex
X-PUBLISHED-TTL:PT1H
BEGIN:VTIMEZONE
TZID:Europe/Berlin
BEGIN:DAYLIGHT
TZOFFSETFROM:+0100
TZOFFSETTO:+0200
TZNAME:CEST
DTSTART:20230326T010000
END:DAYLIGHT
BEGIN:STANDARD
TZOFFSETFROM:+0200
TZOFFSETTO:+0100
TZNAME:CET
DTSTART:20231029T010000
END:STANDARD
BEGIN:DAYLIGHT
TZOFFSETFROM:+0100
TZOFFSETTO:+0200
TZNAME:CEST
DTSTART:20240331T010000
END:DAYLIGHT
BEGIN:STANDARD
TZOFFSETFROM:+0200
TZOFFSETTO:+0100
TZNAME:CET
DTSTART:20241027T010000
END:STANDARD
BEGIN:DAYLIGHT
TZOFFSETFROM:+0100
TZOFFSETTO:+0200
TZNAME:CEST
DTSTART:20250330T010000
END:DAYLIGHT
BEGIN:STANDARD
TZOFFSETFROM:+0200
TZOFFSETTO:+0100
TZNAME:CET
DTSTART:20251026T010000
END:STANDARD
END:VTIMEZONE
BEGIN:VEVENT
DTSTART;TZID=Europe/Berlin:20241201T080000
DTEND;TZID=Europe/Berlin:20241224T170000
DTSTAMP:20260421T122326
CREATED:20241201T101807Z
LAST-MODIFIED:20241201T101807Z
UID:4247-1733040000-1735059600@erliebenswert.de
SUMMARY:Youtube Adventskalender
DESCRIPTION:24 Gesundheitsimpulse – emotional\, mental & körperlich! \nVERSORGEN | BEWEGEN | REGENERIEREN \nLass Dich von meiner Adventsserie gerne inspirieren das ein oder andere auszuprobieren und fühl Dich frei Deine eigene Interpretation zu gestalten. \nIn Kooperation mit Hessennews TV entstand diese Serie um den Zuschauenden ihre Chancen in der Selbststärkung aufzuzeigen. Auch wie einfach es sein kann ein paar erLiebensWERTE Momente für sich selbst zu kreieren. \nP.S.: Ich wünsche Dir viel Freude damit und freue mich über ein Like\, ein Kommentar oder Deine Empfehlung. \nTIPP: Abonniere meinen Kanal und verpasse keine Veröffentlichung mehr.  YouTube Kanal \n#1
URL:https://erliebenswert.de/event/adventskalender/
ATTACH;FMTTYPE=image/jpeg:https://erliebenswert.de/wp-content/uploads/2024/12/erLiebensWERT-Kalender-Youtube-Marina-Orth-1.jpg
ORGANIZER;CN="Marina Orth":MAILTO:info@marina-orth.de
END:VEVENT
BEGIN:VEVENT
DTSTART;TZID=Europe/Berlin:20241212T202000
DTEND;TZID=Europe/Berlin:20241212T213000
DTSTAMP:20260421T122326
CREATED:20241130T123336Z
LAST-MODIFIED:20241130T123336Z
UID:4205-1734034800-1734039000@erliebenswert.de
SUMMARY:Zoom Aufschwung - Treff
DESCRIPTION:Erlebe Dezember Impulse\, Reflektion und Austausch zur ORTHOmantie… \nIn dieser Online – Stammtisch Begegnung geht es um Entfaltung\, Kraftlenkung & Energieschübe! \nGenieß die erLiebensWERTE Zeit\, um noch mehr wertvolle und sinnstiftende Einblicke und Erfahrungen zur Geomantie und der Aufschwungmagie einzusammeln. \nErfahre mehr darüber wie wir: \n\ndie Qualität unserer Emotionen frei leben und lieben können! *Glücksgefühle*\ndie Auflösung unserer unbewussten Prägungen als Fokussierung nutzen können! *Glücksentscheidungen*\ndie körperlichen Bedürfnisse beachten\, erfüllen und als positiven Strom lenken können! *Glücksströme*\ndie Zellbalance herstellen können und die Zellkommunikation optimieren können! *Glückshormone*\ndie Lebensfreude\, Fülle und kindliche Leichtigkeit als Naturprinzip resfreshen können! *Glückseligkeit*\ndie Herzmauern runter fahren und die Transformationskraft als Liebesflow potenieren können! *Liebesglück*   \n\nLass uns Gemeinsam den Begegnungsraum gestalten und Perspektiven und Fragestellungen die jetzt dran sind durchleuchten. Bringe gerne Deine Fragen mit und vor allem eine offene Haltung gegenüber neuen Erklärmodellen und Herzenserfahrungen. \nMeine Gabe ermöglicht es mir intuitiv die Gruppenbedürfnisse als Systemimpuls zu empfangen und daraus etwas nutzen bringendes für die Teilnehmenden als Erlebnis zu gestalten. Fühl Dich eingeladen meine 25 jährige Erfahrung als Mentorin\, Coach und Ausbilderin kennen und schätzen zu lernen. \nLade gerne Deine Lieben zu diesen Abenden ein und mach es Dir gemütlich.
URL:https://erliebenswert.de/event/zoom-aufschwung-treff/
ATTACH;FMTTYPE=image/jpeg:https://erliebenswert.de/wp-content/uploads/2024/11/erLiebensWERTEr-Zoom-Aufschwung-Treff-Marina-Orth-.jpg
ORGANIZER;CN="Marina Orth":MAILTO:info@marina-orth.de
END:VEVENT
BEGIN:VEVENT
DTSTART;TZID=Europe/Berlin:20241219T180000
DTEND;TZID=Europe/Berlin:20241219T210000
DTSTAMP:20260421T122326
CREATED:20241130T133641Z
LAST-MODIFIED:20241130T133641Z
UID:4208-1734631200-1734642000@erliebenswert.de
SUMMARY:3h Workshop Rauhnachts Clearing
DESCRIPTION:Passend für Deinen Jahresabschluss und zur Vorbereitung auf Deine Rauhnachtsrituale… 3h Workshop Geburtsfeldentstörung! \n„Jetzt lebendig SEIN!“ – Workshop mit Fernheilung & Video Mentoring! \nDen Platz unserer Niederkunft in dieses Leben nennt man Geburtsfeld. Gemeint sind die wenigen qm\, die vom ersten Atemzug an den Einstieg in das irdische Leben und in den persönlichen Lebensplan aus der Quelle prägen. Eine Geburtsfeldentstörung ist ein weiterer großer Schritt Deiner Bewusstwerdung. Außerdem führt sie zu einer besseren Stressregulation und dient der Selbststärkung auf allen Ebenen. \nDieser Workshop am 19.12.24 um 18:00h besteht aus drei wertvollen Teilen\,  \ndie Dich Deiner Selbstliebe und vielem mehr näherbringen.  \n  \nTeil 1: Nach Deiner Buchung erhältst Du einen Fragebogen. Anhand dessen nehme ich die Geburtsfeldentstörung als Fernentstörung 48h nach unserem gemeinsamen Workshop vor. Deswegen muss dieser Fragebogen bis zum 19.12.24 um 16 Uhr bei mir per Mail an info@marina-orth.de angekommen sein. \nTeil 2: Am 19.12.24\, 18:00 bis 21:00 Uhr treffen sich alle Teilnehmenden per Zoom zum Workshop. In diesem erläutere ich Dir mehr zur Geburtsfeldentstörung\, gehe auf Fragen ein\, ergänze Heilimpulse und lasse alle im Rahmen meiner geführten Heil – Trance – Reise in den eigenen Geburtsort energetisch eintauchen. \nTeil 3: Danach bekommst Du dauerhaften Zugang zu ihrem exklusiven Mitgliederbereich\, indem Dir weitere Video-Tutorials\, ein Handout und die Heil – Trance – Reise flexibel zur Verfügung stehen. \n  \nFAZIT: Gelebte ORTHmantie ist es\, wenn Geomantie sich mit Aufschwungmagie vereint. Erlebe diese einzigartige Methode und nutze den perfekten Jahresumschwung für Dich als Potentialerhöhung. \nErLebe\, ErLöse\, ErLiebe DICH NEU! \n\nenergetische Zeugungsfeldbereinigung\ngeomantische Geburtsortentstörung\nheilerische Körperfeldklärung\nkraftvolle Lebensfeldenergetisierung\n\nArtikel darüber im Coach Magazin Lesen: Artikel Download \nDieses Aufschwung Angebot ist ein Garant für mehr Bewusstwerdung\, bessere Stressregulation und dient der Selbststärkung auf allen Ebenen. Es beinhaltet die Fernentstörung und Energetisierung durch mich. Durch den inkludierten Zugang zum Mitgliederbereich erhältst Du hilfreiche Tools\, um Deine Transformation zu erleichtern und die Wirkung mit Deiner Bewusstwerdung selber zu Potenzieren. Durch die dort hinterlegte Aufschwung Heil – Trance reist Du in Dein Geburtsfeld und aktivierst die letzen 40% Deiner Fernentstörung aus eigener Kraft. \nTIPP: Jetzt 111€ sparen! Anstatt 291 nur 180€ zahlen. (Auch Ratenzahlung ist möglich!) \nGutscheincode: Winterzauber  Mehr Infos: Zur Übersichtsseite \nÜber mich: „Marina Orth entstört als Geomantin Wohn-\, Arbeits-\, und Geburtsfeldumgebungen. Sie bringt die natürlichen Regulationskräfte zwischen Mensch\, Umwelt und Kosmos wieder in Balance. Die zugrundeliegenden Schöpfungsprinzipien hat sie auch bereits in ihre Produktionen der neun erLiebensWERTEn Heil-Trance-Alben eingearbeitet. Sie ist mit ihrer einzigartigen Methode der ORTHOmantie eine gefragte Expertin für ganzheitliche Resilienz und gesunde Unternehmungen.\“
URL:https://erliebenswert.de/event/3h-workshop-geburtsfeldentstoerung/
ATTACH;FMTTYPE=image/jpeg:https://erliebenswert.de/wp-content/uploads/2024/11/erLiebensWERTEr-Geburtfeldentstoerung-Workshop-Marina-Orth-1.jpg
ORGANIZER;CN="Marina Orth":MAILTO:info@marina-orth.de
END:VEVENT
BEGIN:VEVENT
DTSTART;TZID=Europe/Berlin:20241221T180000
DTEND;TZID=Europe/Berlin:20241221T200000
DTSTAMP:20260421T122326
CREATED:20241207T132459Z
LAST-MODIFIED:20241207T132459Z
UID:4254-1734804000-1734811200@erliebenswert.de
SUMMARY:2h Forschungsgruppen Festival
DESCRIPTION:FESTIVAL – Es gibt mehr als einen Grund zum Feiern! \n2024 stand für uns alle unter dem Stern der Selbsterfahrung\, der Selbsterkenntnisse und der Selbstforschung. \n\nWir treffen uns um 18h in unsrem bekannten Zoom Raum für ca. 2h!\nFragebogen drei erwartet Dich mit vielen weiteren Impulsen und News!\nEndlich ist den Aufschwung-Meno einsatzbereit und ein paar Überraschungen!\n\nDie Forschungsgeschichte:  \nim März 2024 rief ich offiziell zu einem Forschungsprojekt auf und nahm die Bewerbungen dafür online entgegen. Bereits zum Start im April waren wir eine Gruppe von 100 Teilnehmenden. Zuvor hatte ich an ca. 100 lieben Seelen im Rahmen meiner Teamtrainings\, Familienauflösungen und freiwilligen Freunden und Anverwandten oder Herzensmenschen bereits experimentiert und stetig optimiert. Im Laufe des Jahres kanen unzühlige Details zum Thema Heilung und zahlreiche Neugierige zur Auflösung zu mir. \nP.S.: So scheint sich alles das zu fügen\, der kosmische Moment mit allen Vorbereitungen zum Seelenplan verschmilzt. \nDie Forschungserlebnisse:  \nWieviel wir gemeinsam gelöst haben… \nUnendlich dankbar bin ich für diese tiefgründigen Erfahrung mit knapp 500 Teilnehmenden in 2024! \nDie Forschungserkenntnisse:  \nSei gespannt… \nDie Methoden Essenz:  \nORTHOmantie bedeutet Aufrichtung in allen Ebenen. Anbindung an Schöpfungskräfte Orte der Heilung und Harmonie. \nDas Ausbildungsdesign:  \nDiese Magie ist ab September erlernbar! \nhttps://erliebenswert.de/wp-content/uploads/2024/11/Ballance-im-Balance-Workshop-Marina-Orth-Januar-25-.jpgevent/aufschwung-magie-ausbildung/
URL:https://erliebenswert.de/event/2h-forschungsgruppen-festival/
ATTACH;FMTTYPE=image/jpeg:https://erliebenswert.de/wp-content/uploads/2024/12/Forschungsabschluss-Marina-Orth-.jpg
ORGANIZER;CN="Marina Orth":MAILTO:info@marina-orth.de
END:VEVENT
END:VCALENDAR