BEGIN:VCALENDAR
VERSION:2.0
PRODID:-//erliebensWERT - ECPv6.15.20//NONSGML v1.0//EN
CALSCALE:GREGORIAN
METHOD:PUBLISH
X-ORIGINAL-URL:https://erliebenswert.de
X-WR-CALDESC:Veranstaltungen für erliebensWERT
REFRESH-INTERVAL;VALUE=DURATION:PT1H
X-Robots-Tag:noindex
X-PUBLISHED-TTL:PT1H
BEGIN:VTIMEZONE
TZID:Europe/Berlin
BEGIN:DAYLIGHT
TZOFFSETFROM:+0100
TZOFFSETTO:+0200
TZNAME:CEST
DTSTART:20260329T010000
END:DAYLIGHT
BEGIN:STANDARD
TZOFFSETFROM:+0200
TZOFFSETTO:+0100
TZNAME:CET
DTSTART:20261025T010000
END:STANDARD
BEGIN:DAYLIGHT
TZOFFSETFROM:+0100
TZOFFSETTO:+0200
TZNAME:CEST
DTSTART:20270328T010000
END:DAYLIGHT
BEGIN:STANDARD
TZOFFSETFROM:+0200
TZOFFSETTO:+0100
TZNAME:CET
DTSTART:20271031T010000
END:STANDARD
BEGIN:DAYLIGHT
TZOFFSETFROM:+0100
TZOFFSETTO:+0200
TZNAME:CEST
DTSTART:20280326T010000
END:DAYLIGHT
BEGIN:STANDARD
TZOFFSETFROM:+0200
TZOFFSETTO:+0100
TZNAME:CET
DTSTART:20281029T010000
END:STANDARD
END:VTIMEZONE
BEGIN:VEVENT
DTSTART;TZID=Europe/Berlin:20271012T110000
DTEND;TZID=Europe/Berlin:20271104T170000
DTSTAMP:20260421T194116
CREATED:20260301T143000Z
LAST-MODIFIED:20260301T193002Z
UID:6324-1823338800-1825347600@erliebenswert.de
SUMMARY:ResonanzAerial: Trainer-Ausbildung
DESCRIPTION:6 Tage ResonanzAerial™ Trainer-Ausbildung\n  \nZur regulativen und verantwortungsvollen Gruppenleitung im getragenen Tuchraum mit Yin- und Klangprozesse im Schwebenden Setting. \nDie Trainerkompetenzen sind auf die Anleitung von schwebende Yin-Erfahrung im regulativen Tuchraum für Gruppen ausgerichtet. ResonanzAerial™ nutzt das Tuch nicht akrobatisch\, sondern als getragenen Raum für Nervensystem und Faszien. Sanfte Schwingungen\, Atemführung und Klangimpulse wirken regulierend auf das autonome System. Das Gefühl des Getragen-Seins unterstützt Vertrauen und innere Stabilität. Die Kombination aus Erdung und Leichtigkeit schafft eine neue Form von Balance – körperlich wie mental. \nAusgebldete ResonanzAerial™ Trainer bieten ihren Teilnehmenden Selbsterfahrung zur Entlastung von Wirbelsäule und Faszien\, zur Regulierung von Stressreaktionen und zur Stärkung von Vertrauen und innerer Sicherheit. \nDie Kursstundenprofile sind an Menschen mit Spannungszuständen\, Yogapraktizierende mit Vorerfahrung\, und alle\, die neue Körperräume entdecken möchten. \nEs geht um Didaktik und Sicherheit im regulativen Tuchraum\nIn dieser Trainerstufe erlernst Du sichere Tuchführung\, Kontraindikationen im Aerial-Kontext\, regulative Sequenzgestaltung\, Gruppenaufsicht und Sicherheitsstandards\, Integration von Atem und Klang im schwebenden Setting.  \nLernziele\n• Sicherer Aufbau und Anleitung im Tuch• Anpassung an unterschiedliche Zielgruppen• Risikoeinschätzung und Sicherheitsmanagement• Entwicklung vollständiger Unterrichtskonzepte• Durchführung einer Lehrprobe im Aerial-Setting \nEs ist kein akrobatisches Aerial-Training\, keine sportliche Leistungsqualifikation\, sondern eine regulative Ausbildung mit Sicherheitsfokus. \nWenn Du Lust hast\, getragenen Raum verantwortungsvoll zu führen\, dann passt diese Ausbildung zu Dir.  \n„Sicherheit ist die Grundlage jeder Weite. Ich freue mich auf Dich.“ \nDeine Marina \n\nHier geht es zum Anmeldeformular: PDF Download\nHier Kontakt aufnehmen: Rückrufservice
URL:https://erliebenswert.de/event/resonanzaerial-trainer-ausbildung/
LOCATION:Energie & Balance Zentrum Meissner\, Karl-Peter-Str.9\, Hess. Lichtenau\, 37235\, Germany
ATTACH;FMTTYPE=image/jpeg:https://erliebenswert.de/wp-content/uploads/2026/03/Trainer-Ausbildung-ResonanzAerial.jpg
ORGANIZER;CN="Marina Orth":MAILTO:info@marina-orth.de
END:VEVENT
END:VCALENDAR