BEGIN:VCALENDAR
VERSION:2.0
PRODID:-//erliebensWERT - ECPv6.15.20//NONSGML v1.0//EN
CALSCALE:GREGORIAN
METHOD:PUBLISH
X-ORIGINAL-URL:https://erliebenswert.de
X-WR-CALDESC:Veranstaltungen für erliebensWERT
REFRESH-INTERVAL;VALUE=DURATION:PT1H
X-Robots-Tag:noindex
X-PUBLISHED-TTL:PT1H
BEGIN:VTIMEZONE
TZID:Europe/Berlin
BEGIN:DAYLIGHT
TZOFFSETFROM:+0100
TZOFFSETTO:+0200
TZNAME:CEST
DTSTART:20260329T010000
END:DAYLIGHT
BEGIN:STANDARD
TZOFFSETFROM:+0200
TZOFFSETTO:+0100
TZNAME:CET
DTSTART:20261025T010000
END:STANDARD
BEGIN:DAYLIGHT
TZOFFSETFROM:+0100
TZOFFSETTO:+0200
TZNAME:CEST
DTSTART:20270328T010000
END:DAYLIGHT
BEGIN:STANDARD
TZOFFSETFROM:+0200
TZOFFSETTO:+0100
TZNAME:CET
DTSTART:20271031T010000
END:STANDARD
BEGIN:DAYLIGHT
TZOFFSETFROM:+0100
TZOFFSETTO:+0200
TZNAME:CEST
DTSTART:20280326T010000
END:DAYLIGHT
BEGIN:STANDARD
TZOFFSETFROM:+0200
TZOFFSETTO:+0100
TZNAME:CET
DTSTART:20281029T010000
END:STANDARD
END:VTIMEZONE
BEGIN:VEVENT
DTSTART;TZID=Europe/Berlin:20270601T110000
DTEND;TZID=Europe/Berlin:20270715T170000
DTSTAMP:20260421T105238
CREATED:20260301T170405Z
LAST-MODIFIED:20260301T193130Z
UID:6329-1811847600-1815670800@erliebenswert.de
SUMMARY:ResonanzKompass: Trainer-Ausbildung
DESCRIPTION:6 Tage ResonanzKompass™ Lizenz-Trainer-Ausbildung\nZur qualifizierten Durchführung und professionellen Vermittlung des ResonanzKompass™-Prozesses in Gruppen\, Ausbildungs- und Coachingkontexen. \nZiel dieser Zertifizierung ist die professionelle Anwendung und Lizenzierung des ResonanzKompass™. Die Trainerstufe qualifiziert Dich\, den ResonanzKompass™ eigenständig durchzuführen und im Rahmen der Lizenz weiterzugeben. \nDu lernst die strukturierte Auswertung\, Gesprächsführung\, Feedbackkompetenz\, Einbettung in Gruppen- und Coachingprozesse und die Einhaltung der Lizenz- und Qualitätsstandards.  \nEs geht um Klärung individueller Resonanzmuster und bewusste Ausrichtung\nDer ResonanzKompass™ ist ein strukturierter Integrationsprozess zur bewussten Selbstführung. Durch Reflexionsarbeit\, Atemwahrnehmung\, klanggestützte Regulation und systemische Orientierung werden individuelle Resonanzmuster sichtbar. \nDu begleitst dabei\, wie Nervensysteme sich Stabilisieren können und wie Neuausrichtung organisiert wird. Die Vortreile Deiner Teilnehmenden im Rahmen der Selbsterfahrung sind zum einen klare Selbstwahrnehmung zu eigenen Reaktionsmuster\, zum Anderen eine erhöhte Entscheidungs- und Handlungssicherheit und des weiteren nachhaltige Stärkung von Resilienz. \nDie Ausbildung ist geeignet für Coaches\, Führungskräfte\, Selbstständige\,Menschen in Übergangsphasen\, alle\, die bewusster navigieren möchten.\n  \nLernziele\n• Durchführung vollständiger Kompass-Prozesse• Professionelle Ergebnisvermittlung• Sicherer Umgang mit Abgrenzung zu Therapie• Qualitätswahrung im Lizenzrahmen• Dokumentation und Evaluation \nOrientierung vermitteln heißt Klarheit verkörpern. Der ResonanzKompass ist ein Orientierungsinstrument für jede Selbstführung. \n„Ein Kompass wirkt nur in ruhiger Hand. – Ich freue mich auf Dich.“ \nDeine Marina Orth \n\nHier geht es zum Anmeldeformular: PDF Download\nHier Kontakt aufnehmen: Rückrufservice
URL:https://erliebenswert.de/event/resonanzkompass-trainer-ausbildung/
LOCATION:Energie & Balance Zentrum Meissner\, Karl-Peter-Str.9\, Hess. Lichtenau\, 37235\, Germany
ATTACH;FMTTYPE=image/jpeg:https://erliebenswert.de/wp-content/uploads/2026/03/Trainer-Ausbildung-ResonanzKompass.jpg
ORGANIZER;CN="Marina Orth":MAILTO:info@marina-orth.de
END:VEVENT
END:VCALENDAR