BEGIN:VCALENDAR
VERSION:2.0
PRODID:-//erliebensWERT - ECPv6.15.20//NONSGML v1.0//EN
CALSCALE:GREGORIAN
METHOD:PUBLISH
X-WR-CALNAME:erliebensWERT
X-ORIGINAL-URL:https://erliebenswert.de
X-WR-CALDESC:Veranstaltungen für erliebensWERT
REFRESH-INTERVAL;VALUE=DURATION:PT1H
X-Robots-Tag:noindex
X-PUBLISHED-TTL:PT1H
BEGIN:VTIMEZONE
TZID:Europe/Berlin
BEGIN:DAYLIGHT
TZOFFSETFROM:+0100
TZOFFSETTO:+0200
TZNAME:CEST
DTSTART:20260329T010000
END:DAYLIGHT
BEGIN:STANDARD
TZOFFSETFROM:+0200
TZOFFSETTO:+0100
TZNAME:CET
DTSTART:20261025T010000
END:STANDARD
BEGIN:DAYLIGHT
TZOFFSETFROM:+0100
TZOFFSETTO:+0200
TZNAME:CEST
DTSTART:20270328T010000
END:DAYLIGHT
BEGIN:STANDARD
TZOFFSETFROM:+0200
TZOFFSETTO:+0100
TZNAME:CET
DTSTART:20271031T010000
END:STANDARD
BEGIN:DAYLIGHT
TZOFFSETFROM:+0100
TZOFFSETTO:+0200
TZNAME:CEST
DTSTART:20280326T010000
END:DAYLIGHT
BEGIN:STANDARD
TZOFFSETFROM:+0200
TZOFFSETTO:+0100
TZNAME:CET
DTSTART:20281029T010000
END:STANDARD
END:VTIMEZONE
BEGIN:VEVENT
DTSTART;TZID=Europe/Berlin:20270316T110000
DTEND;TZID=Europe/Berlin:20270408T170000
DTSTAMP:20260421T071152
CREATED:20260301T173303Z
LAST-MODIFIED:20260302T135954Z
UID:6338-1805194800-1807203600@erliebenswert.de
SUMMARY:ResonanzNidra: Trainer-Ausbildung
DESCRIPTION:6 Tage ResonanzNidra™ Trainer-Ausbildung\nZur strukturierten Führung von Tiefenregulationsprozessen in Gruppenkontexten mit Atem- und Klangführung. \nDie Zielsetzung dieser Ausbildung ist die professionelle Anleitung regulativer Tiefenprozesse. Die Trainerstufe vermittelt die strukturierte Durchführung von ResonanzNidra™-Einheiten in Gruppen- und Ausbildungskontexten. Du lernst den Aufbau von Tiefenregulationsprozessen\, sprachliche Führung mit und ohne Suggestion\, Klangintegration mit Nervensystem-Kompetenz und das Halten von Gruppen in ruhigen Zuständen mit Integration nach intensiven Prozessen. \nLernziele\n• Konzeption und Durchführung vollständiger Nidra-Sequenzen\n• Sicherheit in Sprache und Prozessführung\n• Erkennen und Stabilisieren von Dysregulation\n• Integration des 4-Ebenen-Modells in Tiefenarbeit\n• Lehrprobe mit professionellem Feedback \nErlerne die Anleitung zur Tiefenregulation multidimensional umzusetzten. ResonanzNidra™ verbindet die Struktur des Yoga Nidra mit Atemarbeit\, Klangführung und dem 4-Ebenen-Modell der ORTHOmantie®. Im liegenden Schutzraum der Ruhe wird Dein Nervensystem schrittweise in einen Zustand tiefer Regulation geführt. Atemrhythmus\, innere Bilder und Frequenzimpulse unterstützen die Integration zwischen Körper\, Emotion\, Denken und Bewusstsein. Es entsteht kein Schlaf – sondern bewusste Regeneration. \nDu begleitest Deine Teilnehmenden bei ihrer Selbsterfahrung von tiefer nervalen Entlastung\, der Verbesserung der Schlafqualität und bietest erhöhte mentale Klarheit und innere Stabilität. Deine Wirkräume sind Geeignet für Menschen mit hohem Stresslevel\,\nFührungskräfte und Selbstständige\, alle\, die Resilienz und Selbstregulation stärken möchten. Dabei ist darauf zu achten\, was ResonanzNidra™  nicht ist. Es ist keine Hypnose. Keine Therapie. Kein Rückzug aus dem Alltag. Es ist ein Training verkörperter Antwortfähigkeit. \nStille führen heißt Bewusstsein strukturieren.\n„Tiefe entsteht durch Sicherheit\, nicht durch Suggestion. – Ich freue mich auf Dich.“ \nDeine Marina \n\nHier geht es zum Anmeldeformular: PDF Download\nHier Kontakt aufnehmen: Rückrufservice
URL:https://erliebenswert.de/event/resonanznidra-trainer-ausbildung/
LOCATION:Energie & Balance Zentrum Meissner\, Karl-Peter-Str.9\, Hess. Lichtenau\, 37235\, Germany
ATTACH;FMTTYPE=image/jpeg:https://erliebenswert.de/wp-content/uploads/2026/03/Trainer-Ausbildung-ResonanzNidra.jpg
ORGANIZER;CN="Marina Orth":MAILTO:info@marina-orth.de
END:VEVENT
END:VCALENDAR