BEGIN:VCALENDAR
VERSION:2.0
PRODID:-//erliebensWERT - ECPv6.15.20//NONSGML v1.0//EN
CALSCALE:GREGORIAN
METHOD:PUBLISH
X-WR-CALNAME:erliebensWERT
X-ORIGINAL-URL:https://erliebenswert.de
X-WR-CALDESC:Veranstaltungen für erliebensWERT
REFRESH-INTERVAL;VALUE=DURATION:PT1H
X-Robots-Tag:noindex
X-PUBLISHED-TTL:PT1H
BEGIN:VTIMEZONE
TZID:Europe/Berlin
BEGIN:DAYLIGHT
TZOFFSETFROM:+0100
TZOFFSETTO:+0200
TZNAME:CEST
DTSTART:20240331T010000
END:DAYLIGHT
BEGIN:STANDARD
TZOFFSETFROM:+0200
TZOFFSETTO:+0100
TZNAME:CET
DTSTART:20241027T010000
END:STANDARD
BEGIN:DAYLIGHT
TZOFFSETFROM:+0100
TZOFFSETTO:+0200
TZNAME:CEST
DTSTART:20250330T010000
END:DAYLIGHT
BEGIN:STANDARD
TZOFFSETFROM:+0200
TZOFFSETTO:+0100
TZNAME:CET
DTSTART:20251026T010000
END:STANDARD
BEGIN:DAYLIGHT
TZOFFSETFROM:+0100
TZOFFSETTO:+0200
TZNAME:CEST
DTSTART:20260329T010000
END:DAYLIGHT
BEGIN:STANDARD
TZOFFSETFROM:+0200
TZOFFSETTO:+0100
TZNAME:CET
DTSTART:20261025T010000
END:STANDARD
END:VTIMEZONE
BEGIN:VEVENT
DTSTART;TZID=Europe/Berlin:20250911T170000
DTEND;TZID=Europe/Berlin:20250914T150000
DTSTAMP:20260421T004924
CREATED:20241006T095148Z
LAST-MODIFIED:20241006T095148Z
UID:3953-1757610000-1757862000@erliebenswert.de
SUMMARY:Naturmagie Auszeit Coaching
DESCRIPTION:Deine Resilienz-Auszeit: Kraft tanken und die innere Ruhe finden \n11. – 14. September 2025 | Naturmagie Aufschwungzeit \nNaturmagie Aufschwungzeit für Dich: \“3 Tage Auszeit Coaching mit magischen Erlebnissen!\“ \nNaturprinzipien\, Klärungsstrategien und magische Transformation erlebst Du von Donnerstag\, 11.09.2025 | 17 Uhr bis Sonntag\, 14.09.25 15 Uhr in Deinem entschleunigenden Ausflug im Herzen deutschlands… \nDu fühlst Dich gestresst\, erschöpft oder ausgebrannt? Es ist an der Zeit\, einen Schritt zurückzutreten und neue Energie zu schöpfen. Gönn Dir eine Auszeit inmitten der Natur\, die Deine Resilienz stärkt und Dir hilft\, zu Deiner inneren Kraft zurückzufinden. \nIn diesem intensiven Coaching erlebst Du eine Reise zu mehr Achtsamkeit\, Ruhe und Stärke. Egal\, ob Du Unternehmer\, Führungskraft\, Student\, Mutter\, Manager oder einfach jemand bist\, der sich mehr Ausgeglichenheit wünscht – hier findest Du Raum\, um Deine Energie wieder aufzuladen. \nWas Dich erwartet: \n\nZeit der Resilienz: Tägliche Coaching-Sessions\, die Dich unterstützen\, Deine innere Balance zurückzuerlangen\nNaturverbundenheit: Waldbaden\, Achtsamkeit und Zeit in der Natur\, die Deine Selbstheilungskräfte aktivieren\nCoaching-Methoden: Innovatives Coaching mit der einzigartigen ORTHOmantie® Methode und achtsamen Übungen\nEnergieaufbau: Tiefe Entspannung durch Yoga und Meditation\, die Dir hilft\, im Alltag wieder mehr Klarheit zu finden\n\nWarum Du teilnehmen solltest: \n\nDu wirst nicht nur Deine Resilienz stärken\, sondern auch Deine Lebensqualität nachhaltig verbessern.\nDu wirst lernen\, wie Du stressige Situationen besser meisterst und Deine innere Ruhe findest.\nDu wirst Dich nach der Auszeit frischer\, klarer und gestärkter fühlen – bereit für die Herausforderungen des Lebens.\n\nPreise und Anmeldung:Die Teilnahme kostet nur 1.299 € (inkl. Frühbucher-Rabatt) und beinhaltet alle Coaching-Sessions\, Übernachtung und Verpflegung. \nMelde Dich jetzt an und gönn Dir diese wertvolle Auszeit\, um zu Dir selbst zurückzufinden. Nimm Dir die Zeit\, die Du verdienst\, und erlebe eine Reise zu mehr innerer Kraft und Ausgeglichenheit. \n  \n \n  \nDeine Bedingungen:  \nDiese einzigartige All In Heil – Aufschwungzeit für Dich gibt es für 1.399\,00€. Für Buchungen die bis 31. März 2025 eingehen erhältst Du 100€ Frühbucherrabatt. Zahlungziel ist 50% sofort und 50% spätestens 6 Wochen vor Antritt der Reise. \nBeachte bitte\, dass ausgefallene Getränke am Tag und alle Getränke am Abend jeweils vor Ort fällig sind. \nTIPP: 100€ Frühbucherrabatt bis 31. März 2025 = 1.299\,00€ | 10% Sofortzahler Rabatt! \nhttps://mein.erliebenswert.de/o/naturmagie-aufschwungzeit/ \nZur Buchung durch das Anmeldeformular: \nhttps://mein.erliebenswert.de/wp-content/uploads/2020/12/Anmeldung-Auszeit-Reise.pdf \n 
URL:https://erliebenswert.de/event/naturmagie-aufschwungzeit/
LOCATION:D&B staycation Resort\, Sengelsberger Weg 12\, Niedenstein\, Hessen\, 34305\, Germany
ATTACH;FMTTYPE=image/jpeg:https://erliebenswert.de/wp-content/uploads/2024/10/Naturmagie-Aufschwungauszeit-2025-Marina-Orth-1.jpg
ORGANIZER;CN="Marina Orth":MAILTO:info@marina-orth.de
END:VEVENT
END:VCALENDAR